Workbook
Name 报送学年: sheet3!$D$2:$D$11
Name 报送学期: sheet3!$E$2:$E$3
Name 活动名称: sheet3!$A$2:$A$77
Name 获奖类型: sheet3!$C$2:$C$3
Name 名次_或等第: sheet3!$B$2:$B$13
Name 名次或等第: sheet3!$B$2:$B$13

Sheet 第十二届康乐上师大一附小杯获奖名单
A1: 徐汇区第十二届“康乐∙上师大一附小杯” 青少年车辆模型创新竞赛获奖名单
A2: 项目一：“创意环卫车”设计展评
A3: 学生姓名 | B3: 学校 | C3: 学段 | D3: 名次 或等第
A4: =[1]创意环卫车!B2 -> 李牧东 | B4: =[1]创意环卫车!C2 -> 樱花园小学 | C4: =[1]创意环卫车!D2 -> 小学 | D4: =[1]创意环卫车!K2 -> 一等奖
A5: =[1]创意环卫车!B3 -> 马浩哲 | B5: =[1]创意环卫车!C3 -> 龙华小学 | C5: =[1]创意环卫车!D3 -> 小学 | D5: =[1]创意环卫车!K3 -> 一等奖
A6: =[1]创意环卫车!B4 -> 李伯远 | B6: =[1]创意环卫车!C4 -> 徐汇区爱菊小学 | C6: =[1]创意环卫车!D4 -> 小学 | D6: =[1]创意环卫车!K4 -> 一等奖
A7: =[1]创意环卫车!B5 -> 李栎张 周豪 | B7: =[1]创意环卫车!C5 -> 上海师范大学第一附属小学 | C7: =[1]创意环卫车!D5 -> 小学 | D7: =[1]创意环卫车!K5 -> 一等奖
A8: =[1]创意环卫车!B6 -> 李睿涵 季钰涵 | B8: =[1]创意环卫车!C6 -> 上海师范大学第一附属小学 | C8: =[1]创意环卫车!D6 -> 小学 | D8: =[1]创意环卫车!K6 -> 一等奖
A9: =[1]创意环卫车!B7 -> 沈叶宸 原辰 | B9: =[1]创意环卫车!C7 -> 复旦大学附属徐汇实验学校 | C9: =[1]创意环卫车!D7 -> 小学 | D9: =[1]创意环卫车!K7 -> 一等奖
A10: =[1]创意环卫车!B8 -> 胡嘉文 朱梦妮 | B10: =[1]创意环卫车!C8 -> 复旦大学附属徐汇实验学校 | C10: =[1]创意环卫车!D8 -> 小学 | D10: =[1]创意环卫车!K8 -> 二等奖
A11: =[1]创意环卫车!B9 -> 张熙苓 田涵钰 | B11: =[1]创意环卫车!C9 -> 上海师范大学第一附属小学 | C11: =[1]创意环卫车!D9 -> 小学 | D11: =[1]创意环卫车!K9 -> 二等奖
A12: =[1]创意环卫车!B10 -> 赵芷欣 | B12: =[1]创意环卫车!C10 -> 康宁科技实验小学 | C12: =[1]创意环卫车!D10 -> 小学 | D12: =[1]创意环卫车!K10 -> 二等奖
A13: =[1]创意环卫车!B11 -> 方睿彧 | B13: =[1]创意环卫车!C11 -> 徐汇区爱菊小学 | C13: =[1]创意环卫车!D11 -> 小学 | D13: =[1]创意环卫车!K11 -> 二等奖
A14: =[1]创意环卫车!B12 -> 徐澍成 | B14: =[1]创意环卫车!C12 -> 康宁科技实验小学 | C14: =[1]创意环卫车!D12 -> 小学 | D14: =[1]创意环卫车!K12 -> 二等奖
A15: =[1]创意环卫车!B13 -> 陈苏瞰 | B15: =[1]创意环卫车!C13 -> 日晖新村小学 | C15: =[1]创意环卫车!D13 -> 小学 | D15: =[1]创意环卫车!K13 -> 二等奖
... A19: =[1]创意环卫车!B17 -> 张想想 高若然 | B19: =[1]创意环卫车!C17 -> 上海师范大学第一附属小学 | C19: =[1]创意环卫车!D17 -> 小学 | D19: =[1]创意环卫车!K17 -> 三等奖
A20: =[1]创意环卫车!B19 -> 林佑一 | B20: =[1]创意环卫车!C19 -> 华泾小学 | C20: =[1]创意环卫车!D19 -> 小学 | D20: =[1]创意环卫车!K19 -> 三等奖
A21: =[1]创意环卫车!B20 -> 肖淇菱 李欣亮 | B21: =[1]创意环卫车!C20 -> 复旦大学附属徐汇实验学校 | C21: =[1]创意环卫车!D20 -> 小学 | D21: =[1]创意环卫车!K20 -> 三等奖
A22: 何佳怡 | B22: =[1]创意环卫车!C21 -> 求知小学 | C22: =[1]创意环卫车!D21 -> 小学 | D22: =[1]创意环卫车!K21 -> 三等奖
A23: =[1]创意环卫车!B22 -> 马辰昊 | B23: =[1]创意环卫车!C22 -> 上海市徐汇区启新小学 | C23: =[1]创意环卫车!D22 -> 小学 | D23: =[1]创意环卫车!K22 -> 三等奖
A24: =[1]创意环卫车!B23 -> 郝万予 | B24: =[1]创意环卫车!C23 -> 华泾小学 | C24: =[1]创意环卫车!D23 -> 小学 | D24: =[1]创意环卫车!K23 -> 三等奖
A25: =[1]创意环卫车!B24 -> 钟子昀 | B25: =[1]创意环卫车!C24 -> 龙华小学 | C25: =[1]创意环卫车!D24 -> 小学 | D25: =[1]创意环卫车!K24 -> 三等奖
A26: =[1]创意环卫车!B25 -> 陈乐天 张乐之 | B26: =[1]创意环卫车!C25 -> 康宁科技实验小学 | C26: =[1]创意环卫车!D25 -> 小学 | D26: =[1]创意环卫车!K25 -> 三等奖
A27: =[1]创意环卫车!B26 -> 宋辰阳 | B27: =[1]创意环卫车!C26 -> 吴中路小学 | C27: =[1]创意环卫车!D26 -> 小学 | D27: =[1]创意环卫车!K26 -> 三等奖
A28: =[1]创意环卫车!B27 -> 沐锦轩 | B28: =[1]创意环卫车!C27 -> 徐汇实验小学 | C28: =[1]创意环卫车!D27 -> 小学 | D28: =[1]创意环卫车!K27 -> 三等奖
A29: =[1]创意环卫车!B18 -> 欧阳和殷 | B29: =[1]创意环卫车!C18 -> 上海市南洋初级中学 | C29: =[1]创意环卫车!D18 -> 初中 | D29: =[1]创意环卫车!K18 -> 三等奖
A30: =[1]创意环卫车!B28 -> 武雨哲 | B30: =[1]创意环卫车!C28 -> 上海市徐汇中学 | C30: =[1]创意环卫车!D28 -> 初中 | D30: =[1]创意环卫车!K28 -> 三等奖
A31: 项目二：“防疫救护车”模型展评
A32: 柯一 | B32: 徐汇区田林第一小学 | C32: 小学 | D32: 一等奖
A33: 王梓屹 | B33: 漕开发实小 | C33: 小学 | D33: 一等奖
A34: 罗卿元 | B34: 徐汇区田林第一小学 | C34: 小学 | D34: 一等奖
A35: 吴诗莹 | B35: 上海市徐汇区启新小学 | C35: 小学 | D35: 一等奖
A36: 丁奕文 毛佳琦 | B36: 徐教院附小 | C36: 小学 | D36: 二等奖
A37: 程禹铭 | B37: 吴中路小学 | C37: 小学 | D37: 二等奖
A38: 李侑宸 | B38: 复旦大学附属徐汇实验学校 | C38: 小学 | D38: 二等奖
A39: 张涵凯 | B39: 徐汇区爱菊小学 | C39: 小学 | D39: 二等奖
A40: 樊学融 赵何鸣 | B40: 上海师范大学第一附属小学 | C40: 小学 | D40: 二等奖
A41: 杜昊泽 罗凯文 | B41: 上海师范大学第一附属小学 | C41: 小学 | D41: 二等奖
A42: 章驭清 | B42: 日晖新村小学 | C42: 小学 | D42: 二等奖
A43: 宋籽言 | B43: 上海师范大学第一附属小学 | C43: 小学 | D43: 三等奖
... A56: 朱文凯 钱昆烨 | B56: 上海市第五十四中学 | C56: 高中 | D56: 二等奖

Sheet sheet3
A1: 活动名称 | B1: 名次或等第 | C1: 获奖类型 | D1: 报送学年 | E1: 报送学期
A2: 徐汇区“园南杯”创客新星大赛 | B2: 一等奖 | C2: 个人 | D2: 2015年 | E2: 第一学期
A3: 徐汇区“科普在社区、科普进家庭”活动 | B3: 二等奖 | C3: 团体 | D3: 2016年 | E3: 第二学期
A4: 徐汇区“XCX”——“ 向阳-襄一-长桥”杯科学幻想画竞赛 | B4: 三等奖 | D4: 2017年
A5: 徐汇区“南模初杯”天文知识科普系列活动 | B5: 第一名 | D5: 2018年
A6: 徐汇区“斜土-索广-南洋初杯”OM环保系列赛 | B6: 第二名 | D6: 2019年
A7: 徐汇区“园南杯”防震减灾竞赛 | B7: 第三名 | D7: 2020年
A8: 徐汇区“康乐-上师大一附小杯”青少年汽车文化创新竞赛 | B8: 达芬奇奖 | D8: 2021年
A9: 上海市中小学生濒危野生动物保护科普活动——“田二杯”青少年系列科普知识竞赛 | B9: 文艺复兴奖 | D9: 2022年
A10: 徐汇区“五十四中”杯中学生计算机应用操作竞赛 | B10: 即时挑战第一名 | D10: 2023年
A11: 徐汇区“中国杯”智能机器人竞赛 | B11: 明日科技之星 | D11: 2024年
A12: 徐汇区“天平—位育（初）杯”环保网页竞赛 | B12: 明日科技之星提名奖
A13: “田林-田三杯”头脑奥林匹克家庭亲子擂台赛 | B13: 科技希望之星
A14: 徐汇区“斜土——江南杯”船模建模竞赛 | B14: 科技奥林之星
A15: 徐汇区“斜土-日新杯”绿色家园、生态校园——“我与身边的植物”网上行动 | B15: 科技奥林之星提名奖
A16: 徐汇区“龙苑杯”头脑奥林匹克万人大挑战 | B16: 科技创意之星
A17: 徐汇区“漕河泾-求知杯”智力七巧板比赛 | B17: 科技创意之星提名奖
A18: 徐汇区“漕河泾－汾阳杯”船模、建模比赛
A19: 徐汇区“宛平杯”生命教育系列活动
A20: 徐汇区“汇学杯”环保—未来工程师大赛
A21: 徐汇区“天平-位育初中杯”环保摄影比赛
A22: 徐汇区“康健—樱花杯”爱鸟识鸟系列活动
A23: “上小—教院附中”杯电子制作竞赛
A24: 徐汇区“市二初中杯”青少年知识产权教育活动
A25: 徐汇区青少年科技创意竞赛
A26: 徐汇区“凌云·梅园杯”航宇科普系列活动暨上海市中小学生航空航天科普活动选拔赛
A27: 徐汇区“中国中学杯”环保创意赛
A28: “市二中学杯”徐汇区“明日科技之星”素质测评比赛
A29: “上海中学杯”徐汇区青少年科技论坛
A30: 徐汇区“比德杯”航天系列活动网上行
